BEGIN:VCALENDAR
VERSION:2.0
PRODID:-//NACEE - ECPv6.3.2//NONSGML v1.0//EN
CALSCALE:GREGORIAN
METHOD:PUBLISH
X-WR-CALNAME:NACEE
X-ORIGINAL-URL:http://nacee.net
X-WR-CALDESC:Events for NACEE
REFRESH-INTERVAL;VALUE=DURATION:PT1H
X-Robots-Tag:noindex
X-PUBLISHED-TTL:PT1H
BEGIN:VTIMEZONE
TZID:America/Chicago
BEGIN:DAYLIGHT
TZOFFSETFROM:-0600
TZOFFSETTO:-0500
TZNAME:CDT
DTSTART:20240310T080000
END:DAYLIGHT
BEGIN:STANDARD
TZOFFSETFROM:-0500
TZOFFSETTO:-0600
TZNAME:CST
DTSTART:20241103T070000
END:STANDARD
BEGIN:DAYLIGHT
TZOFFSETFROM:-0600
TZOFFSETTO:-0500
TZNAME:CDT
DTSTART:20250309T080000
END:DAYLIGHT
BEGIN:STANDARD
TZOFFSETFROM:-0500
TZOFFSETTO:-0600
TZNAME:CST
DTSTART:20251102T070000
END:STANDARD
END:VTIMEZONE
BEGIN:VEVENT
DTSTART;TZID=America/Chicago:20251206T100000
DTEND;TZID=America/Chicago:20251206T140000
DTSTAMP:20260422T173839
CREATED:20250801T035132Z
LAST-MODIFIED:20250801T035132Z
UID:1527687-1765015200-1765029600@nacee.net
SUMMARY:ACT Prep Class
DESCRIPTION:
URL:http://nacee.net/event/act-prep-class-5/
LOCATION:UAH/ Morton Hall
CATEGORIES:ACT Prep
ATTACH;FMTTYPE=image/png:http://nacee.net/wp-content/uploads/2024/02/ACT.png
END:VEVENT
BEGIN:VEVENT
DTSTART;TZID=America/Chicago:20251115T100000
DTEND;TZID=America/Chicago:20251115T140000
DTSTAMP:20260422T173839
CREATED:20250801T035021Z
LAST-MODIFIED:20250801T035021Z
UID:1527685-1763200800-1763215200@nacee.net
SUMMARY:ACT Prep Class
DESCRIPTION:English/Math Bootcamp
URL:http://nacee.net/event/act-prep-class-4/
LOCATION:UAH/ Morton Hall
CATEGORIES:ACT Prep
ATTACH;FMTTYPE=image/png:http://nacee.net/wp-content/uploads/2024/02/ACT.png
END:VEVENT
BEGIN:VEVENT
DTSTART;TZID=America/Chicago:20251004T100000
DTEND;TZID=America/Chicago:20251004T140000
DTSTAMP:20260422T173839
CREATED:20250801T034853Z
LAST-MODIFIED:20250801T034853Z
UID:1527683-1759572000-1759586400@nacee.net
SUMMARY:ACT Prep Class
DESCRIPTION:
URL:http://nacee.net/event/act-prep-class-3/
LOCATION:UAH/ Morton Hall
ATTACH;FMTTYPE=image/png:http://nacee.net/wp-content/uploads/2024/02/ACT.png
END:VEVENT
BEGIN:VEVENT
DTSTART;TZID=America/Chicago:20250920T100000
DTEND;TZID=America/Chicago:20250920T140000
DTSTAMP:20260422T173839
CREATED:20250801T034738Z
LAST-MODIFIED:20250801T034738Z
UID:1527681-1758362400-1758376800@nacee.net
SUMMARY:ACT Prep Class
DESCRIPTION:English/ Math Bootcamp
URL:http://nacee.net/event/act-prep-class-2/
LOCATION:UAH/ Morton Hall
CATEGORIES:ACT Prep
ATTACH;FMTTYPE=image/png:http://nacee.net/wp-content/uploads/2024/02/ACT.png
END:VEVENT
BEGIN:VEVENT
DTSTART;TZID=America/Chicago:20250830T100000
DTEND;TZID=America/Chicago:20250830T140000
DTSTAMP:20260422T173839
CREATED:20250801T034425Z
LAST-MODIFIED:20250801T034506Z
UID:1527679-1756548000-1756562400@nacee.net
SUMMARY:ACT Prep Class
DESCRIPTION:
URL:http://nacee.net/event/act-prep-class/
LOCATION:UAH/ Morton Hall
CATEGORIES:ACT Prep
ATTACH;FMTTYPE=image/png:http://nacee.net/wp-content/uploads/2024/02/ACT.png
END:VEVENT
BEGIN:VEVENT
DTSTART;VALUE=DATE:20240527
DTEND;VALUE=DATE:20240528
DTSTAMP:20260422T173839
CREATED:20240209T144811Z
LAST-MODIFIED:20240209T144811Z
UID:1527449-1716768000-1716854399@nacee.net
SUMMARY:Memorial Day (Offices Closed)
DESCRIPTION:Our offices will be closed on Monday\, May 27th in observance of Memorial Day.
URL:http://nacee.net/event/memorial-day-offices-closed/
CATEGORIES:Office Closure
ATTACH;FMTTYPE=image/jpeg:http://nacee.net/wp-content/uploads/2018/09/soldier2-unsplash.jpg
END:VEVENT
BEGIN:VEVENT
DTSTART;VALUE=DATE:20240509
DTEND;VALUE=DATE:20240510
DTSTAMP:20260422T173839
CREATED:20240209T143826Z
LAST-MODIFIED:20240209T143927Z
UID:1527441-1715212800-1715299199@nacee.net
SUMMARY:After-School Tutoring Ends
DESCRIPTION:After school tutoring ends
URL:http://nacee.net/event/after-school-tutoring-ends/
CATEGORIES:After- School Tutoring
ATTACH;FMTTYPE=image/png:http://nacee.net/wp-content/uploads/2024/02/TEST-PREP-CLASS.png
END:VEVENT
BEGIN:VEVENT
DTSTART;TZID=America/Chicago:20240406T100000
DTEND;TZID=America/Chicago:20240406T140000
DTSTAMP:20260422T173839
CREATED:20240209T144330Z
LAST-MODIFIED:20240209T144330Z
UID:1527443-1712397600-1712412000@nacee.net
SUMMARY:Mastery Prep/ ACT Prep
DESCRIPTION:Master Prep/ ACT Prep \nIn Person at Morton Hall/ UAH
URL:http://nacee.net/event/mastery-prep-act-prep/
LOCATION:UAH/ Morton Hall
CATEGORIES:ACT Prep
ATTACH;FMTTYPE=image/png:http://nacee.net/wp-content/uploads/2024/02/ACT.png
END:VEVENT
BEGIN:VEVENT
DTSTART;TZID=America/Chicago:20240406T080000
DTEND;TZID=America/Chicago:20240406T170000
DTSTAMP:20260422T173839
CREATED:20240127T130612Z
LAST-MODIFIED:20240207T130455Z
UID:1527300-1712390400-1712422800@nacee.net
SUMMARY:ACT Prep Class (Session 3)
DESCRIPTION:The ACT (American College Testing) is America’s most widely accepted college entrance exam.  The test assesses high school students’ general educational development and ability to complete college-level work. The ACT is a multiple-choice test that covers four areas: English\, Math\, Reading\, and Science.  There is also a Writing Test\, which is optional\, that measures an individual’s skill in planning and writing an essay. For more information and/or to register for the actual ACT test visit: www.act.org The center offers ACT Preparation classes before each test.  Students are admitted on a “first come” basis\, and you must be a participant in one of our programs. \nWe have three sessions of classes for the spring semester: \n\nSession 1: Saturday\, February 3\, 2024\nSession 2: English/Math Boot Camp | Saturday\, March 2\, 2024\nSession 3: Saturday\, April 6\, 2024\n\nPast participants said that they have improved their composite scores by 2-6 points after attending the classes. During class\, participants receive: \n\nProven Test-Taking Strategies\nA Full ACT Practice Test\nSmall Group Instruction/Tutoring\n\nFor more information about the ACT or registering for the ACT Preparation classes\, please call Cynthia Allen at 256.372.4600.
URL:http://nacee.net/event/act-prep-class-session-3/
CATEGORIES:ACT Prep
ATTACH;FMTTYPE=image/png:http://nacee.net/wp-content/uploads/2024/02/ACT.png
END:VEVENT
BEGIN:VEVENT
DTSTART;VALUE=DATE:20240329
DTEND;VALUE=DATE:20240330
DTSTAMP:20260422T173839
CREATED:20240207T162044Z
LAST-MODIFIED:20240207T162044Z
UID:1527437-1711670400-1711756799@nacee.net
SUMMARY:Good Friday (Office Closed)
DESCRIPTION:Our offices will be closed on Friday\, March 29\, 2024\, in observation of Good Friday.
URL:http://nacee.net/event/good-friday-office-closed/
CATEGORIES:Office Closure
ATTACH;FMTTYPE=image/jpeg:http://nacee.net/wp-content/uploads/2024/02/zac-durant-_6HzPU9Hyfg-unsplash.jpg
END:VEVENT
BEGIN:VEVENT
DTSTART;TZID=America/Chicago:20240302T080000
DTEND;TZID=America/Chicago:20240302T170000
DTSTAMP:20260422T173839
CREATED:20240207T090432Z
LAST-MODIFIED:20240207T090947Z
UID:1527298-1709366400-1709398800@nacee.net
SUMMARY:ACT Prep Class: English/Math Boot Camp (Session 2)
DESCRIPTION:The ACT (American College Testing) is America’s most widely accepted college entrance exam.  The test assesses high school students’ general educational development and ability to complete college-level work. The ACT is a multiple-choice test that covers four areas: English\, Math\, Reading\, and Science.  There is also a Writing Test\, which is optional\, that measures an individual’s skill in planning and writing an essay. For more information and/or to register for the actual ACT test visit: www.act.org The center offers ACT Preparation classes before each test.  Students are admitted on a “first come” basis\, and you must be a participant in one of our programs. \nWe have three sessions of classes for the spring semester: \n\nSession 1: Saturday\, February 3\, 2024\nSession 2: English/Math Boot Camp | Saturday\, March 2\, 2024\nSession 3: Saturday\, April 6\, 2024\n\nPast participants said that they have improved their composite scores by 2-6 points after attending the classes. During class\, participants receive: \n\nProven Test-Taking Strategies\nA Full ACT Practice Test\nSmall Group Instruction/Tutoring\n\nFor more information about the ACT or registering for the ACT Preparation classes\, please call Cynthia Allen at 256.372.4600.
URL:http://nacee.net/event/english-math-boot-camp-session-2/
CATEGORIES:ACT Prep
ATTACH;FMTTYPE=image/png:http://nacee.net/wp-content/uploads/2024/02/ACT.png
END:VEVENT
BEGIN:VEVENT
DTSTART;TZID=America/Chicago:20240203T080000
DTEND;TZID=America/Chicago:20240203T170000
DTSTAMP:20260422T173839
CREATED:20240107T125408Z
LAST-MODIFIED:20240207T091000Z
UID:1527271-1706947200-1706979600@nacee.net
SUMMARY:ACT Prep Class (Session 1)
DESCRIPTION:The ACT (American College Testing) is America’s most widely accepted college entrance exam.  The test assesses high school students’ general educational development and ability to complete college-level work. The ACT is a multiple-choice test that covers four areas: English\, Math\, Reading\, and Science.  There is also a Writing Test\, which is optional\, that measures an individual’s skill in planning and writing an essay. For more information and/or to register for the actual ACT test visit: www.act.org The center offers ACT Preparation classes before each test.  Students are admitted on a “first come” basis\, and you must be a participant in one of our programs. \nWe have three sessions of classes for the spring semester: \n\nSession 1: Saturday\, February 3\, 2024\nSession 2: English/Math Boot Camp | Saturday\, March 2\, 2024\nSession 3: Saturday\, April 6\, 2024\n\nPast participants said that they have improved their composite scores by 2-6 points after attending the classes. During class\, participants receive: \n\nProven Test-Taking Strategies\nA Full ACT Practice Test\nSmall Group Instruction/Tutoring\n\nFor more information about the ACT or registering for the ACT Preparation classes\, please call Cynthia Allen at 256.372.4600.
URL:http://nacee.net/event/act-prep-class-session-1/
CATEGORIES:ACT Prep
ATTACH;FMTTYPE=image/png:http://nacee.net/wp-content/uploads/2024/02/ACT.png
END:VEVENT
END:VCALENDAR